BEGIN:VCALENDAR
VERSION:2.0
PRODID:-//hacksw/handcal//NONSGML v1.0//EN
BEGIN:VEVENT
UID:9622
DTSTART;VALUE=DATE:20171229
URL;VALUE=URI:ohschonhell.at/?page_id=20259
SUMMARY:Berlin! Berlin! - Sisyphon Showcase Wien
LOCATION:HORST
END:VEVENT
END:VCALENDAR


