BEGIN:VCALENDAR
VERSION:2.0
PRODID:-//hacksw/handcal//NONSGML v1.0//EN
BEGIN:VEVENT
UID:9668
DTSTART;VALUE=DATE:20180105
URL;VALUE=URI:ohschonhell.at/?page_id=20365
SUMMARY:20 Jahre Lost in Bass
LOCATION:ELEKTRO GÖNNER
END:VEVENT
END:VCALENDAR


