BEGIN:VCALENDAR
VERSION:2.0
PRODID:-//hacksw/handcal//NONSGML v1.0//EN
BEGIN:VEVENT
UID:9699
DTSTART;VALUE=DATE:20171231
URL;VALUE=URI:ohschonhell.at/?page_id=20448
SUMMARY:Horst &amp\; die Rakete - Silvester mit Austrian Apparel live
LOCATION:HORST
END:VEVENT
END:VCALENDAR


