BEGIN:VCALENDAR
VERSION:2.0
PRODID:-//hacksw/handcal//NONSGML v1.0//EN
BEGIN:VEVENT
UID:9709
DTSTART;VALUE=DATE:20171230
URL;VALUE=URI:ohschonhell.at/?page_id=20476
SUMMARY:Mainframe Recordings pres.Tiefgang w/ Bad Company UK
LOCATION:HORST
END:VEVENT
END:VCALENDAR


