BEGIN:VCALENDAR
VERSION:2.0
PRODID:-//hacksw/handcal//NONSGML v1.0//EN
BEGIN:VEVENT
UID:9715
DTSTART;VALUE=DATE:20180105
URL;VALUE=URI:ohschonhell.at/?page_id=20493
SUMMARY:Tohuwabohu ̷̼̭̕͝
LOCATION:PRIME
END:VEVENT
END:VCALENDAR


