BEGIN:VCALENDAR
VERSION:2.0
PRODID:-//hacksw/handcal//NONSGML v1.0//EN
BEGIN:VEVENT
UID:9717
DTSTART;VALUE=DATE:20171224
URL;VALUE=URI:ohschonhell.at/?page_id=20497
SUMMARY:Techno Weihnacht w/ JAYZO (Techno Tuesday)
LOCATION:PRIME
END:VEVENT
END:VCALENDAR


