BEGIN:VCALENDAR
VERSION:2.0
PRODID:-//hacksw/handcal//NONSGML v1.0//EN
BEGIN:VEVENT
UID:9721
DTSTART;VALUE=DATE:20180127
URL;VALUE=URI:ohschonhell.at/?page_id=20512
SUMMARY:SPACE RAVE BASE 303
LOCATION:PRIME
END:VEVENT
END:VCALENDAR


