BEGIN:VCALENDAR
VERSION:2.0
PRODID:-//hacksw/handcal//NONSGML v1.0//EN
BEGIN:VEVENT
UID:9725
DTSTART;VALUE=DATE:20180303
URL;VALUE=URI:ohschonhell.at/?page_id=20524
SUMMARY:ॐ ✷ Bassfabrique meets Art of Noise ✷ ॐ
LOCATION:VIPER ROOM
END:VEVENT
END:VCALENDAR


