BEGIN:VCALENDAR
VERSION:2.0
PRODID:-//hacksw/handcal//NONSGML v1.0//EN
BEGIN:VEVENT
UID:9749
DTSTART;VALUE=DATE:20171231
URL;VALUE=URI:ohschonhell.at/?page_id=20574
SUMMARY:MorgenKlangs NYE 2017/18 with dkm &amp\; friends
LOCATION:MorgenKlang
END:VEVENT
END:VCALENDAR


