BEGIN:VCALENDAR
VERSION:2.0
PRODID:-//hacksw/handcal//NONSGML v1.0//EN
BEGIN:VEVENT
UID:9752
DTSTART;VALUE=DATE:20180126
URL;VALUE=URI:ohschonhell.at/?page_id=20582
SUMMARY:Horst &amp\; Hannelore mit Dominik Eulberg
LOCATION:HORST
END:VEVENT
END:VCALENDAR


