BEGIN:VCALENDAR
VERSION:2.0
PRODID:-//hacksw/handcal//NONSGML v1.0//EN
BEGIN:VEVENT
UID:9761
DTSTART;VALUE=DATE:20180105
URL;VALUE=URI:ohschonhell.at/?page_id=20600
SUMMARY:Horst &amp\; Hannelore mit Claptone live
LOCATION:HORST
END:VEVENT
END:VCALENDAR


