BEGIN:VCALENDAR
VERSION:2.0
PRODID:-//hacksw/handcal//NONSGML v1.0//EN
BEGIN:VEVENT
UID:9769
DTSTART;VALUE=DATE:20180216
URL;VALUE=URI:ohschonhell.at/?page_id=20616
SUMMARY:Oldschool Loop 2018
LOCATION:FLUCC
END:VEVENT
END:VCALENDAR


