BEGIN:VCALENDAR
VERSION:2.0
PRODID:-//hacksw/handcal//NONSGML v1.0//EN
BEGIN:VEVENT
UID:9784
DTSTART;VALUE=DATE:20180112
URL;VALUE=URI:ohschonhell.at/?page_id=20653
SUMMARY:Horst &amp\; Hannelore w/ Rodriguez Jr. live &amp\; Tim Green
LOCATION:HORST
END:VEVENT
END:VCALENDAR


