BEGIN:VCALENDAR
VERSION:2.0
PRODID:-//hacksw/handcal//NONSGML v1.0//EN
BEGIN:VEVENT
UID:9793
DTSTART;VALUE=DATE:20180113
URL;VALUE=URI:ohschonhell.at/?page_id=20673
SUMMARY:Basstrace 029 - 3 Years System Session - GetDarker Takeover
LOCATION:VENSTER 99
END:VEVENT
END:VCALENDAR


