BEGIN:VCALENDAR
VERSION:2.0
PRODID:-//hacksw/handcal//NONSGML v1.0//EN
BEGIN:VEVENT
UID:9800
DTSTART;VALUE=DATE:20180112
URL;VALUE=URI:ohschonhell.at/?page_id=20690
SUMMARY:Bart &amp\; Busen Beats Kitsch on Ice
LOCATION:KitschMas
END:VEVENT
END:VCALENDAR


