BEGIN:VCALENDAR
VERSION:2.0
PRODID:-//hacksw/handcal//NONSGML v1.0//EN
BEGIN:VEVENT
UID:9802
DTSTART;VALUE=DATE:20180111
URL;VALUE=URI:ohschonhell.at/?page_id=20694
SUMMARY:Shenron | Fireabend
LOCATION:CAMERA CLUB
END:VEVENT
END:VCALENDAR


