BEGIN:VCALENDAR
VERSION:2.0
PRODID:-//hacksw/handcal//NONSGML v1.0//EN
BEGIN:VEVENT
UID:9803
DTSTART;VALUE=DATE:20180203
URL;VALUE=URI:ohschonhell.at/?page_id=20696
SUMMARY:Vienna Burning Ball 2018 (SOLD OUT)
LOCATION:Café Luftschloss Cobenzl
END:VEVENT
END:VCALENDAR


