BEGIN:VCALENDAR
VERSION:2.0
PRODID:-//hacksw/handcal//NONSGML v1.0//EN
BEGIN:VEVENT
UID:9819
DTSTART;VALUE=DATE:20180122
URL;VALUE=URI:ohschonhell.at/?page_id=20731
SUMMARY:Bassline DnB Mondays special ft. Vooid (Methlab SK)
LOCATION:PRIME
END:VEVENT
END:VCALENDAR


