BEGIN:VCALENDAR
VERSION:2.0
PRODID:-//hacksw/handcal//NONSGML v1.0//EN
BEGIN:VEVENT
UID:9825
DTSTART;VALUE=DATE:20180111
URL;VALUE=URI:ohschonhell.at/?page_id=20743
SUMMARY:Wiener Linie - Schwarze Luft Edition
LOCATION:U4
END:VEVENT
END:VCALENDAR


