BEGIN:VCALENDAR
VERSION:2.0
PRODID:-//hacksw/handcal//NONSGML v1.0//EN
BEGIN:VEVENT
UID:9839
DTSTART;VALUE=DATE:20180113
URL;VALUE=URI:ohschonhell.at/?page_id=20773
SUMMARY:MorgenKlang meets Hausgemacht
LOCATION:MorgenKlang
END:VEVENT
END:VCALENDAR


