BEGIN:VCALENDAR
VERSION:2.0
PRODID:-//hacksw/handcal//NONSGML v1.0//EN
BEGIN:VEVENT
UID:9842
DTSTART;VALUE=DATE:20180228
URL;VALUE=URI:ohschonhell.at/?page_id=20783
SUMMARY:PeaceSpirit - wednesday Art-Club
LOCATION:PRIME
END:VEVENT
END:VCALENDAR


