BEGIN:VCALENDAR
VERSION:2.0
PRODID:-//hacksw/handcal//NONSGML v1.0//EN
BEGIN:VEVENT
UID:9843
DTSTART;VALUE=DATE:20180221
URL;VALUE=URI:ohschonhell.at/?page_id=20785
SUMMARY:PeaceSpirit - wednesday Art-Club Lounge
LOCATION:PRIME
END:VEVENT
END:VCALENDAR


