BEGIN:VCALENDAR
VERSION:2.0
PRODID:-//hacksw/handcal//NONSGML v1.0//EN
BEGIN:VEVENT
UID:9844
DTSTART;VALUE=DATE:20180210
URL;VALUE=URI:ohschonhell.at/?page_id=20787
SUMMARY:Carnival by Glitzer &amp\; Trash x hausgemacht
LOCATION:AUSLAGE
END:VEVENT
END:VCALENDAR


