BEGIN:VCALENDAR
VERSION:2.0
PRODID:-//hacksw/handcal//NONSGML v1.0//EN
BEGIN:VEVENT
UID:985
DTSTART;VALUE=DATE:20140328
URL;VALUE=URI:ohschonhell.at/?page_id=3452
SUMMARY:HAPPINESS pres. ONE NIGHT WITH RAMKO85 - 80s Special [28|03|2014]
LOCATION:CHAYA FUERA
END:VEVENT
END:VCALENDAR


