BEGIN:VCALENDAR
VERSION:2.0
PRODID:-//hacksw/handcal//NONSGML v1.0//EN
BEGIN:VEVENT
UID:9856
DTSTART;VALUE=DATE:20180202
URL;VALUE=URI:ohschonhell.at/?page_id=20822
SUMMARY:Horst &amp\; Hannelore mit Anja Schneider
LOCATION:HORST
END:VEVENT
END:VCALENDAR


