BEGIN:VCALENDAR
VERSION:2.0
PRODID:-//hacksw/handcal//NONSGML v1.0//EN
BEGIN:VEVENT
UID:9860
DTSTART;VALUE=DATE:20180119
URL;VALUE=URI:ohschonhell.at/?page_id=20832
SUMMARY:A Night w/ Istrefi &amp\; Schacke presented by Bare Hands
LOCATION:VENSTER 99
END:VEVENT
END:VCALENDAR


