BEGIN:VCALENDAR
VERSION:2.0
PRODID:-//hacksw/handcal//NONSGML v1.0//EN
BEGIN:VEVENT
UID:9867
DTSTART;VALUE=DATE:20180202
URL;VALUE=URI:ohschonhell.at/?page_id=20852
SUMMARY:5 years Deep Baked / Episode 1 / Jennifer Cardini
LOCATION:GRELLE FORELLE
END:VEVENT
END:VCALENDAR


