BEGIN:VCALENDAR
VERSION:2.0
PRODID:-//hacksw/handcal//NONSGML v1.0//EN
BEGIN:VEVENT
UID:9869
DTSTART;VALUE=DATE:20180202
URL;VALUE=URI:ohschonhell.at/?page_id=20860
SUMMARY:Tohuwabohụ̶̺̫͙̫̭̜̺͡ͅ
LOCATION:PRIME
END:VEVENT
END:VCALENDAR


