BEGIN:VCALENDAR
VERSION:2.0
PRODID:-//hacksw/handcal//NONSGML v1.0//EN
BEGIN:VEVENT
UID:9870
DTSTART;VALUE=DATE:20180120
URL;VALUE=URI:ohschonhell.at/?page_id=20864
SUMMARY:Overground is timeless w/ Tom Novy
LOCATION:VOLKSGARTEN
END:VEVENT
END:VCALENDAR


