BEGIN:VCALENDAR
VERSION:2.0
PRODID:-//hacksw/handcal//NONSGML v1.0//EN
BEGIN:VEVENT
UID:9874
DTSTART;VALUE=DATE:20180121
URL;VALUE=URI:ohschonhell.at/?page_id=20876
SUMMARY:MorgenKlang pres. offizielle Push 4 Tec Afterhour
LOCATION:MorgenKlang
END:VEVENT
END:VCALENDAR


