BEGIN:VCALENDAR
VERSION:2.0
PRODID:-//hacksw/handcal//NONSGML v1.0//EN
BEGIN:VEVENT
UID:9886
DTSTART;VALUE=DATE:20180203
URL;VALUE=URI:ohschonhell.at/?page_id=20910
SUMMARY:WTF und F&amp\;L gehen tanzen
LOCATION:VENSTER 99
END:VEVENT
END:VCALENDAR


