BEGIN:VCALENDAR
VERSION:2.0
PRODID:-//hacksw/handcal//NONSGML v1.0//EN
BEGIN:VEVENT
UID:9892
DTSTART;VALUE=DATE:20180104
URL;VALUE=URI:ohschonhell.at/?page_id=20926
SUMMARY:Pizza Sounds Good
LOCATION:Pizza Randale
END:VEVENT
END:VCALENDAR


