BEGIN:VCALENDAR
VERSION:2.0
PRODID:-//hacksw/handcal//NONSGML v1.0//EN
BEGIN:VEVENT
UID:9922
DTSTART;VALUE=DATE:20180127
URL;VALUE=URI:ohschonhell.at/?page_id=21002
SUMMARY:❅ Official Paradise Winter Festival Daytime &amp\; Afterparty ❅
LOCATION:NOX Bar
END:VEVENT
END:VCALENDAR


