BEGIN:VCALENDAR
VERSION:2.0
PRODID:-//hacksw/handcal//NONSGML v1.0//EN
BEGIN:VEVENT
UID:9926
DTSTART;VALUE=DATE:20180201
URL;VALUE=URI:ohschonhell.at/?page_id=21016
SUMMARY:DXH 007
LOCATION:PRIME
END:VEVENT
END:VCALENDAR


