BEGIN:VCALENDAR
VERSION:2.0
PRODID:-//hacksw/handcal//NONSGML v1.0//EN
BEGIN:VEVENT
UID:9934
DTSTART;VALUE=DATE:20180203
URL;VALUE=URI:ohschonhell.at/?page_id=21038
SUMMARY:Sexy Berlin Club Sound (!)
LOCATION:KitschMas
END:VEVENT
END:VCALENDAR


