BEGIN:VCALENDAR
VERSION:2.0
PRODID:-//hacksw/handcal//NONSGML v1.0//EN
BEGIN:VEVENT
UID:9938
DTSTART;VALUE=DATE:20180224
URL;VALUE=URI:ohschonhell.at/?page_id=21050
SUMMARY:UK Menu x Basstrace: Gundam / JFO
LOCATION:VENSTER 99
END:VEVENT
END:VCALENDAR


