BEGIN:VCALENDAR
VERSION:2.0
PRODID:-//hacksw/handcal//NONSGML v1.0//EN
BEGIN:VEVENT
UID:9941
DTSTART;VALUE=DATE:20180216
URL;VALUE=URI:ohschonhell.at/?page_id=21056
SUMMARY:Gönners Paradise ☞ Eine Nacht mit Traumata B2B NiNek
LOCATION:ELEKTRO GÖNNER
END:VEVENT
END:VCALENDAR


