BEGIN:VCALENDAR
VERSION:2.0
PRODID:-//hacksw/handcal//NONSGML v1.0//EN
BEGIN:VEVENT
UID:9945
DTSTART;VALUE=DATE:20180215
URL;VALUE=URI:ohschonhell.at/?page_id=21066
SUMMARY:Pizza Sounds Good
LOCATION:Pizza Randale
END:VEVENT
END:VCALENDAR


