BEGIN:VCALENDAR
VERSION:2.0
PRODID:-//hacksw/handcal//NONSGML v1.0//EN
BEGIN:VEVENT
UID:9947
DTSTART;VALUE=DATE:20180201
URL;VALUE=URI:ohschonhell.at/?page_id=21070
SUMMARY:Pizza Sounds Good
LOCATION:Pizza Randale
END:VEVENT
END:VCALENDAR


