BEGIN:VCALENDAR
VERSION:2.0
PRODID:-//hacksw/handcal//NONSGML v1.0//EN
BEGIN:VEVENT
UID:9969
DTSTART;VALUE=DATE:20180217
URL;VALUE=URI:ohschonhell.at/?page_id=21131
SUMMARY:Löwenzahn #8 meets Kramladen + official Logo release
LOCATION:Kramladen
END:VEVENT
END:VCALENDAR


