BEGIN:VCALENDAR
VERSION:2.0
PRODID:-//hacksw/handcal//NONSGML v1.0//EN
BEGIN:VEVENT
UID:997
DTSTART;VALUE=DATE:20140412
URL;VALUE=URI:ohschonhell.at/?page_id=3465
SUMMARY:Club MNML at Camera Club / KUNTERBUNT
LOCATION:CAMERA CLUB
END:VEVENT
END:VCALENDAR


