BEGIN:VCALENDAR
VERSION:2.0
PRODID:-//hacksw/handcal//NONSGML v1.0//EN
BEGIN:VEVENT
UID:9995
DTSTART;VALUE=DATE:20180223
URL;VALUE=URI:ohschonhell.at/?page_id=21191
SUMMARY:Offline with JORIS VOORN
LOCATION:HORST
END:VEVENT
END:VCALENDAR


